BEGIN:VCALENDAR
VERSION:2.0
PRODID:-//ypaithros international - ECPv6.8.1//NONSGML v1.0//EN
CALSCALE:GREGORIAN
METHOD:PUBLISH
X-WR-CALNAME:ypaithros international
X-ORIGINAL-URL:https://www.ypaithros.gr/en
X-WR-CALDESC:Events for ypaithros international
REFRESH-INTERVAL;VALUE=DURATION:PT1H
X-Robots-Tag:noindex
X-PUBLISHED-TTL:PT1H
BEGIN:VTIMEZONE
TZID:UTC
BEGIN:STANDARD
TZOFFSETFROM:+0000
TZOFFSETTO:+0000
TZNAME:UTC
DTSTART:20160101T000000
END:STANDARD
END:VTIMEZONE
BEGIN:VEVENT
DTSTART;VALUE=DATE:20160128
DTEND;VALUE=DATE:20160201
DTSTAMP:20260422T045535
CREATED:20151201T081139Z
LAST-MODIFIED:20151209T140110Z
UID:367-1453939200-1454284799@www.ypaithros.gr
SUMMARY:AGROTICA 2016
DESCRIPTION:The 26th AGROTICA event will be welcoming you once again to Thessaloniki from January 28 until January 31\, 2016. Regularly keeping its appointment every two years\, the largest international meeting of sector professionals presents the latest global developments concerning Machinery\, Equipment and Supplies. \nMake sure you participate in the most important exhibition event promoting Agricultural Growth and capitalising on everything new in Technology and Science!
URL:https://www.ypaithros.gr/en/event/agrotica-2016/
LOCATION:thessaloniki international exhibition center\, Εγνατία 154\, Θεσσαλονίκη 546 36\, Thessaloniki\, 546 36
ATTACH;FMTTYPE=image/png:https://www.ypaithros.gr/en/wp-content/uploads/sites/2/2015/12/logo_en.png
END:VEVENT
END:VCALENDAR